BEGIN:VCALENDAR
VERSION:2.0
PRODID:-//proyectonavidad - ECPv6.15.20//NONSGML v1.0//EN
CALSCALE:GREGORIAN
METHOD:PUBLISH
X-WR-CALNAME:proyectonavidad
X-ORIGINAL-URL:http://proyectonavidad.seelechor.es
X-WR-CALDESC:Eventos para proyectonavidad
REFRESH-INTERVAL;VALUE=DURATION:PT1H
X-Robots-Tag:noindex
X-PUBLISHED-TTL:PT1H
BEGIN:VTIMEZONE
TZID:UTC
BEGIN:STANDARD
TZOFFSETFROM:+0000
TZOFFSETTO:+0000
TZNAME:UTC
DTSTART:20250101T000000
END:STANDARD
END:VTIMEZONE
BEGIN:VEVENT
DTSTART;TZID=UTC:20261218T113000
DTEND;TZID=UTC:20261218T133000
DTSTAMP:20260421T104403
CREATED:20260308T203125Z
LAST-MODIFIED:20260308T203125Z
UID:44-1797593400-1797600600@proyectonavidad.seelechor.es
SUMMARY:Ensayo General
DESCRIPTION:Las horas del evento de este día son probables. Todavía no definitivas
URL:http://proyectonavidad.seelechor.es/event/ensayo-general/
LOCATION:Escuela Waldorf de Landsberg\, Landsberg\, Germany
END:VEVENT
BEGIN:VEVENT
DTSTART;TZID=UTC:20261218T170000
DTEND;TZID=UTC:20261218T190000
DTSTAMP:20260421T104403
CREATED:20260308T204549Z
LAST-MODIFIED:20260308T204549Z
UID:48-1797613200-1797620400@proyectonavidad.seelechor.es
SUMMARY:Concierto en la Iglesia Maria am Wege\, Windach
DESCRIPTION:
URL:http://proyectonavidad.seelechor.es/event/concierto-en-la-iglesia-maria-am-wege-windach/
LOCATION:Autobahn- und Pfarrkirche Maria am Wege Windach
END:VEVENT
END:VCALENDAR